BEGIN:VCALENDAR
VERSION:2.0
PRODID:-//FIDA The Design School - ECPv6.15.20//NONSGML v1.0//EN
CALSCALE:GREGORIAN
METHOD:PUBLISH
X-ORIGINAL-URL:https://fidathedesignschool.com
X-WR-CALDESC:Events for FIDA The Design School
REFRESH-INTERVAL;VALUE=DURATION:PT1H
X-Robots-Tag:noindex
X-PUBLISHED-TTL:PT1H
BEGIN:VTIMEZONE
TZID:UTC
BEGIN:STANDARD
TZOFFSETFROM:+0000
TZOFFSETTO:+0000
TZNAME:UTC
DTSTART:20220101T000000
END:STANDARD
END:VTIMEZONE
BEGIN:VEVENT
DTSTART;TZID=UTC:20240801T100000
DTEND;TZID=UTC:20250806T163000
DTSTAMP:20260424T080116
CREATED:20231104T181218Z
LAST-MODIFIED:20240305T210029Z
UID:44933-1722506400-1754497800@fidathedesignschool.com
SUMMARY:Fashion Design Crashcourse
DESCRIPTION:Why: Embark on a transformative journey into the world of fashion with our Fashion Design Crash Course Workshop. Ideal for those seeking an introduction to the realm of style or eager to explore a new passion\, this workshop aims to kindle your design journey. Discover the foundational principles of fashion design\, unravel the art of trend analysis\, and engage in hands-on projects under the guidance of industry experts. In a brief duration\, unlock key elements of garment creation\, sketching\, and set the stage for a thrilling exploration into the field of fashion. \nWhat: The Fashion Design Crash Course delves into the essentials of fashion illustration\, fabric selection\, and basic garment construction. Participants engage in practical exercises\, enhancing design proficiency by conceptualizing ideas and translating them into tangible creations. This workshop explores color theory\, silhouette creation\, and pattern making. By the end\, participants will possess a comprehensive understanding of the fashion design process\, equipped to showcase their skills in designing innovative and stunning fashion pieces. \nHow: Through a dynamic mix of interactive lectures\, hands-on studio sessions\, and personalized feedback\, participants receive a holistic learning experience. Guided by seasoned faculty—comprising industry professionals—the workshop creates a stimulating environment where creativity knows no bounds. The emphasis is on practical application\, ensuring participants gain not only theoretical knowledge but also the skills to bring their design visions to life.
URL:https://fidathedesignschool.com/event/fashioncrashcourse/
LOCATION:NY
CATEGORIES:Fashion Workshops
ATTACH;FMTTYPE=image/jpeg:https://fidathedesignschool.com/wp-content/uploads/2024/02/pexels-ksenia-chernaya-3965559-scaled.jpg
END:VEVENT
BEGIN:VEVENT
DTSTART;TZID=UTC:20240319T080000
DTEND;TZID=UTC:20240319T170000
DTSTAMP:20260424T080116
CREATED:20231105T090829Z
LAST-MODIFIED:20240305T210105Z
UID:44952-1710835200-1710867600@fidathedesignschool.com
SUMMARY:Fashion Design Masterclass
DESCRIPTION:Why: Elevate your fashion design proficiency with our exclusive Fashion Design Master Class Workshop. Tailored for those desiring a deeper dive into the world of haute couture\, this workshop offers an immersive experience crafted for individuals with a passion for precision and an eye for detail. Learn from industry leaders and gain invaluable insights into advanced techniques\, trend forecasting\, and the intricate artistry that defines high-end fashion. \nWhat: The Fashion Design Master Class comprehensively explores advanced design principles\, couture techniques\, and industry best practices. Participants delve into the art of creating signature collections\, understanding fabric manipulation\, and incorporating sustainable practices into their designs. Engaging in hands-on projects challenges creativity and refines the ability to conceptualize and execute sophisticated fashion pieces. By the end\, participants possess the skills to bring haute couture visions to life. \nHow: Led by renowned fashion designers and industry experts\, the Master Class employs a blend of theoretical discourse\, practical demonstrations\, and personalized mentorship. The immersive environment encourages collaboration and challenges participants to push the boundaries of conventional design. This intensive workshop provides a rare opportunity to refine craft under the guidance of professionals\, propelling participants into the echelons of high fashion.
URL:https://fidathedesignschool.com/event/fashiondesignmasterclass/
LOCATION:FIDA the Design School \, Kilpauk\, Chennai\, 350 5th Ave\, New York\, NY\, 10118\, United States
CATEGORIES:Fashion Masterclass
ATTACH;FMTTYPE=image/jpeg:https://fidathedesignschool.com/wp-content/uploads/2024/02/pexels-ron-lach-9849312-scaled.jpg
ORGANIZER;CN="Ashton Porter":MAILTO:info@example.com
END:VEVENT
BEGIN:VEVENT
DTSTART;TZID=UTC:20240203T080000
DTEND;TZID=UTC:20250214T170000
DTSTAMP:20260424T080116
CREATED:20231105T090649Z
LAST-MODIFIED:20240305T210127Z
UID:44950-1706947200-1739552400@fidathedesignschool.com
SUMMARY:Interior Design Crash Course
DESCRIPTION:Why: Embark on a transformative exploration of interior design with our Interior Design Crash Course Workshop. Whether you’re an aspiring designer or someone looking to revamp personal spaces\, this workshop provides the perfect introduction to the captivating world of interior aesthetics. Gain a foundational understanding of spatial dynamics\, color theory\, and furniture arrangement\, setting the stage for you to infuse creativity into your living and working spaces. \nWhat: The Interior Design Crash Course covers essential concepts such as spatial planning\, color psychology\, and design principles. Engage in practical exercises that allow you to apply newfound knowledge to real-life scenarios. From conceptualizing mood boards to experimenting with layout configurations\, participants will learn to transform spaces aesthetically and functionally. This workshop provides a glimpse into the diverse facets of interior design\, equipping you with the skills to embark on your design journey. \nHow: Immerse yourself in a dynamic learning environment that combines interactive lectures with hands-on projects. Our experienced instructors\, with hands-on experience in the interior design field\, guide participants through real-world case studies and industry best practices. By the end of the workshop\, participants will not only grasp the essentials of interior design theory but also have the confidence to apply these principles to diverse spaces.
URL:https://fidathedesignschool.com/event/interiorcrashcourse/
LOCATION:FIDA the Design School \, Kilpauk\, Chennai\, 350 5th Ave\, New York\, NY\, 10118\, United States
CATEGORIES:Interior Design Workshops
ATTACH;FMTTYPE=image/jpeg:https://fidathedesignschool.com/wp-content/uploads/2024/02/pexels-thirdman-5582597-scaled.jpg
ORGANIZER;CN="Ashton Porter":MAILTO:info@example.com
END:VEVENT
BEGIN:VEVENT
DTSTART;TZID=UTC:20240110T080000
DTEND;TZID=UTC:20250116T170000
DTSTAMP:20260424T080116
CREATED:20231105T090531Z
LAST-MODIFIED:20240305T210223Z
UID:44948-1704873600-1737046800@fidathedesignschool.com
SUMMARY:Interior Design Masterclass
DESCRIPTION:Why: Elevate your understanding of interior design with our exclusive Interior Design Master Class Workshop. Tailored for professionals seeking an in-depth exploration of advanced design concepts\, this workshop equips participants with the knowledge and skills needed to lead impactful\, aesthetically sophisticated interior design projects. \nWhat: The Interior Design Master Class delves into advanced topics such as luxury design\, sustainable interiors\, and creating immersive environments. Engage in hands-on projects that challenge your creativity\, from conceptualizing high-end residential spaces to designing commercial interiors that align with contemporary trends. Participants will gain insights into the latest materials\, furniture design\, and technologies shaping the field of interior design. \nHow: Led by esteemed interior designers and industry leaders\, the Master Class offers a curated blend of theoretical insights\, practical exercises\, and personalized mentorship. Immerse yourself in an environment that encourages critical thinking and collaborative problem-solving. This intensive workshop provides a unique opportunity to refine your design skills under the guidance of professionals\, ensuring you are well-equipped to drive results in the competitive world of interior design.
URL:https://fidathedesignschool.com/event/interiormasterclass/
LOCATION:FIDA the Design School \, Kilpauk\, Chennai\, 350 5th Ave\, New York\, NY\, 10118\, United States
CATEGORIES:Interiors Masterclass
ATTACH;FMTTYPE=image/jpeg:https://fidathedesignschool.com/wp-content/uploads/2024/02/pexels-antoni-shkraba-production-8837511-scaled.jpg
ORGANIZER;CN="Ashton Porter":MAILTO:info@example.com
END:VEVENT
BEGIN:VEVENT
DTSTART;TZID=UTC:20231205T080000
DTEND;TZID=UTC:20241205T170000
DTSTAMP:20260424T080116
CREATED:20231104T182538Z
LAST-MODIFIED:20240305T210244Z
UID:44944-1701763200-1733418000@fidathedesignschool.com
SUMMARY:Digital Marketing workshop
DESCRIPTION:Why: Dive into the dynamic realm of digital marketing with our Digital Marketing Crash Course Workshop. Whether you’re a business professional looking to enhance your skills or an aspiring marketer eager to navigate the digital landscape\, this workshop is your gateway to mastering essential strategies. Understand the power of online platforms\, key marketing concepts\, and embark on a learning journey that empowers you to craft impactful digital campaigns. \nWhat: The Digital Marketing Crash Course covers fundamental aspects such as social media marketing\, search engine optimization (SEO)\, content marketing\, and online advertising. Engage in practical exercises that provide hands-on experience in creating and implementing digital marketing strategies. From building brand presence on social media to optimizing website content for search engines\, participants will acquire a comprehensive understanding of the digital marketing ecosystem. \nHow: Immerse yourself in a dynamic learning environment that blends theoretical insights with practical application. Our seasoned instructors\, with hands-on experience in the digital marketing landscape\, guide participants through real-world case studies and industry best practices. By the end of the workshop\, participants will not only grasp the essentials of digital marketing theory but also have the confidence to navigate and leverage the ever-evolving online landscape.
URL:https://fidathedesignschool.com/event/digitalmarketingworkshop/
LOCATION:FIDA the Design School \, Kilpauk\, Chennai\, 350 5th Ave\, New York\, NY\, 10118\, United States
CATEGORIES:Digital Marketing Workshop
ORGANIZER;CN="Ashton Porter":MAILTO:info@example.com
END:VEVENT
BEGIN:VEVENT
DTSTART;TZID=UTC:20231121T190000
DTEND;TZID=UTC:20241121T203000
DTSTAMP:20260424T080116
CREATED:20231104T182239Z
LAST-MODIFIED:20240305T210300Z
UID:44941-1700593200-1732221000@fidathedesignschool.com
SUMMARY:Digital Marketing Masterclass
DESCRIPTION:Why: Elevate your digital marketing expertise with our exclusive Digital Marketing Masterclass Workshop. Tailored for professionals seeking an in-depth understanding of advanced digital strategies\, this workshop is designed to equip participants with the knowledge and skills needed to lead impactful\, data-driven digital marketing campaigns. \nWhat: The Digital Marketing Masterclass delves into advanced topics such as marketing analytics\, conversion rate optimization\, and strategic planning for comprehensive digital campaigns. Engage in hands-on projects that challenge your strategic thinking\, from creating data-driven marketing plans to optimizing campaigns for maximum impact. Participants will gain insights into the latest trends\, tools\, and technologies shaping the digital marketing landscape. \nHow: Led by industry experts and seasoned digital marketers\, the Masterclass offers a curated blend of theoretical insights\, practical exercises\, and personalized mentorship. Immerse yourself in an environment that encourages critical thinking and collaborative problem-solving. This intensive workshop provides a unique opportunity to refine your digital marketing skills under the guidance of professionals\, ensuring you are well-equipped to drive results in the competitive digital landscape.
URL:https://fidathedesignschool.com/event/digitalmarketingmasterclass/
LOCATION:FIDA the Design School \, Kilpauk\, Chennai\, 350 5th Ave\, New York\, NY\, 10118\, United States
CATEGORIES:Digital Marketing Masterclass
ORGANIZER;CN="Ashton Porter":MAILTO:info@example.com
END:VEVENT
END:VCALENDAR